BEGIN:VCALENDAR
VERSION:2.0
PRODID:-//Above All Else - ECPv6.15.12.2//NONSGML v1.0//EN
CALSCALE:GREGORIAN
METHOD:PUBLISH
X-WR-CALNAME:Above All Else
X-ORIGINAL-URL:http://aboveallelse.org
X-WR-CALDESC:Events for Above All Else
REFRESH-INTERVAL;VALUE=DURATION:PT1H
X-Robots-Tag:noindex
X-PUBLISHED-TTL:PT1H
BEGIN:VTIMEZONE
TZID:UTC
BEGIN:STANDARD
TZOFFSETFROM:+0000
TZOFFSETTO:+0000
TZNAME:UTC
DTSTART:20250101T000000
END:STANDARD
END:VTIMEZONE
BEGIN:VEVENT
DTSTART;TZID=UTC:20260508T113000
DTEND;TZID=UTC:20260508T130000
DTSTAMP:20260422T001026
CREATED:20251017T205708Z
LAST-MODIFIED:20251017T205708Z
UID:11240-1778239800-1778245200@aboveallelse.org
SUMMARY:Your Roadmap to Greater Business Success - Presented by Nancy D. Butler\, CFP®\, CDFA®\, CLTC®\, CSA®
DESCRIPTION:Nancy built a business from scratch as a single parent\, with no other source of income\, growing it from $2\,000 to $200 million in assets under management. After selling the business\, she began coaching companies across multiple industries\, helping them dramatically improve client service and increase profitability by more than 200%. \nWith over 40 years of experience\, Nancy is an international speaker\, award-winning author\, and seasoned entrepreneur. She has been a Delegate to the United Nations Commission on the Status of Women since 2018 and has been featured in national media outlets\, including Money magazine\, USA Today\, Forbes\, U.S. News & World Report\, AARP\, The Chicago Tribune\, and more. \nThis session is designed for business owners at all stages who are eager to enhance their operations and achieve their business goals. \nNancy will share proven tips for running your business more efficiently\, to better ensure that every aspect of your operation contributes to your bottom line. Discover how to set your business apart from the competition by developing a unique value proposition and leveraging your strengths. Learn effective marketing techniques to help you connect with your ideal customers and build a loyal client base. \nYou’ll also discover how to build a business plan that actually drives results—one that adapts as your business grows rather than sitting on a shelf. \nWalk away with clear\, actionable steps to move your business forward—starting immediately. \nSigned copies of Nancy’s award-winning books will be available.
URL:http://aboveallelse.org/event/your-roadmap-to-greater-business-success-presented-by-nancy-d-butler-cfp-cdfa-cltc-csa/
LOCATION:Saybrook Point Inn\, Old Saybrook
CATEGORIES:Keynote Speaker
END:VEVENT
END:VCALENDAR